BEGIN:VCALENDAR
VERSION:2.0
METHOD:PUBLISH
PRODID:-//Telerik Inc.//Sitefinity CMS 15.3//EN
BEGIN:VTIMEZONE
TZID:Eastern Standard Time
BEGIN:STANDARD
DTSTART:20251102T020000
RRULE:FREQ=YEARLY;BYDAY=1SU;BYHOUR=2;BYMINUTE=0;BYMONTH=11
TZNAME:Eastern Standard Time
TZOFFSETFROM:-0400
TZOFFSETTO:-0500
END:STANDARD
BEGIN:DAYLIGHT
DTSTART:20250301T020000
RRULE:FREQ=YEARLY;BYDAY=2SU;BYHOUR=2;BYMINUTE=0;BYMONTH=3
TZNAME:Eastern Daylight Time
TZOFFSETFROM:-0500
TZOFFSETTO:-0400
END:DAYLIGHT
END:VTIMEZONE
BEGIN:VEVENT
DESCRIPTION:Are you a current MPI Ottawa student member or young profession
 al? Are you considering joining as a student member? If you answered yes t
 o either question then this event is for you! The Student Sub-Committee\, 
 part of the Member Care Committee\, is hosting a mentor speed-networking e
 vent where students will have the chance to sit down and chat with our cur
 rent MPI Ottawa members\, round-table style.\nOur student members and youn
 g professionals play a key role in our membership and we want to give you 
 an opportunity to sit down and ask our current members questions about the
  industry\, how they got involved in MPI and the industry\, the benefits o
 f being an MPI Ottawa member\, or any other questions you may have.\nMark 
 the date in your calendars! This is an event you will not want to miss!\nE
 vent Date and Location:\nApril 4\, 2018\n5:30 PM at Steak and Sushi @ 87 C
 larence Street Ottawa\n\nEvent Schedule\n\n    \n        \n            5:3
 0 &ndash\; 6:30 pm\n            Registration and Networking\n        \n   
      \n            6:30 &ndash\; 6:50 pm\n            Round 1\n        \n 
        \n            6:50 &ndash\; 7:05 pm\n            Travel Time\n     
    \n        \n            7:05 &ndash\; 7:25 pm\n            Round 2\n   
      \n        \n            7:25 &ndash\; 7:40 pm\n            Travel Tim
 e\n        \n        \n            7:40 &ndash\; 8:00 pm\n            Roun
 d 3\n        \n        \n            8:00 &ndash\; 9:00 pm\n            Ne
 tworking\n        \n    \n\n&nbsp\;\n\nAttendee Pricing\n\n    \n        \
 n            MPI Members (young professionals)\n            $25.00\n      
   \n        \n            Student Member\n            $20.00\n        \n  
       \n            Student Non- Members\n            $20.00\n            
 \n            \n        \n    \n\n
DTEND:20180405T013000Z
DTSTAMP:20260422T091647Z
DTSTART:20180404T213000Z
LOCATION:ON\,Canada\,Ottawa\,87 Clarence St
SEQUENCE:0
SUMMARY:MPI Ottawa Speed Mentoring/Networking Event
UID:RFCALITEM639124282070595078
X-ALT-DESC;FMTTYPE=text/html:<p>Are you a current MPI Ottawa student member
  or young professional? Are you considering joining as a student member? I
 f you answered yes to either question then this event is for you! The Stud
 ent Sub-Committee\, part of the Member Care Committee\, is hosting a mento
 r speed-networking event where students will have the chance to sit down a
 nd chat with our current MPI Ottawa members\, round-table style.</p>\n<p>O
 ur student members and young professionals play a key role in our membersh
 ip and we want to give you an opportunity to sit down and ask our current 
 members questions about the industry\, how they got involved in MPI and th
 e industry\, the benefits of being an MPI Ottawa member\, or any other que
 stions you may have.</p>\n<p>Mark the date in your calendars! This is an e
 vent you will not want to miss!</p>\n<h5 ><strong>Event Date and Location:
 </strong></h5>\n<p><strong>April 4\, 2018<br />\n5:30 PM at Steak and Sush
 i @ 87 Clarence Street Ottawa</strong></p>\n<h5><strong><br />\nEvent Sche
 dule</strong></h5>\n<table>\n    <tbody>\n        <tr>\n            <th><s
 trong>5:30 &ndash\; 6:30 pm</strong></th>\n            <th><strong>Registr
 ation and Networking</strong></th>\n        </tr>\n        <tr>\n         
    <td><strong>6:30 &ndash\; 6:50 pm</strong></td>\n            <td><stron
 g>Round 1</strong></td>\n        </tr>\n        <tr>\n            <th><str
 ong>6:50 &ndash\; 7:05 pm</strong></th>\n            <th><strong>Travel Ti
 me</strong></th>\n        </tr>\n        <tr>\n            <th><strong>7:0
 5 &ndash\; 7:25 pm</strong></th>\n            <th><strong>Round 2</strong>
 </th>\n        </tr>\n        <tr>\n            <th><strong>7:25 &ndash\; 
 7:40 pm</strong></th>\n            <th><strong>Travel Time</strong></th>\n
         </tr>\n        <tr>\n            <th><strong>7:40 &ndash\; 8:00 pm
 </strong></th>\n            <th><strong>Round 3</strong></th>\n        </t
 r>\n        <tr>\n            <td><strong>8:00 &ndash\; 9:00 pm</strong></
 td>\n            <td><strong>Networking</strong></td>\n        </tr>\n    
 </tbody>\n</table>\n<p><strong>&nbsp\;</strong></p>\n<h5><strong><br />\nA
 ttendee Pricing</strong></h5>\n<table>\n    <tbody>\n        <tr>\n       
      <th><strong>MPI Members (young professionals)</strong></th>\n        
     <th><strong>$25.00</strong></th>\n        </tr>\n        <tr>\n       
      <td><strong>Student Member</strong></td>\n            <td><strong>$20
 .00</strong></td>\n        </tr>\n        <tr>\n            <td><strong>St
 udent Non- Members</strong></td>\n            <td><strong>$20.00<br />\n  
           <br />\n            </strong></td>\n        </tr>\n    </tbody>\
 n</table>\n<br />
END:VEVENT
END:VCALENDAR
