BEGIN:VCALENDAR
VERSION:2.0
METHOD:PUBLISH
PRODID:-//Telerik Inc.//Sitefinity CMS 15.3//EN
BEGIN:VTIMEZONE
TZID:Pacific Standard Time
BEGIN:STANDARD
DTSTART:20251102T020000
RRULE:FREQ=YEARLY;BYDAY=1SU;BYHOUR=2;BYMINUTE=0;BYMONTH=11
TZNAME:Pacific Standard Time
TZOFFSETFROM:-0700
TZOFFSETTO:-0800
END:STANDARD
BEGIN:DAYLIGHT
DTSTART:20250301T020000
RRULE:FREQ=YEARLY;BYDAY=2SU;BYHOUR=2;BYMINUTE=0;BYMONTH=3
TZNAME:Pacific Daylight Time
TZOFFSETFROM:-0800
TZOFFSETTO:-0700
END:DAYLIGHT
END:VTIMEZONE
BEGIN:VEVENT
DESCRIPTION:There is no bigger celebration of the people and purpose of the
  business event industry than MPI&rsquo\;s World Education Congress. Throu
 gh a strategy of intentional event design\, personalized learning\, and th
 e festive hospitality of San Antonio\, WEC will deliver what you need to s
 kyrocket your event career.Because of what you learn and who you meet at W
 EC\, your events will come alive like never before.&nbsp\;
DTEND:20260605T050000Z
DTSTAMP:20260422T151722Z
DTSTART:20260602T150000Z
LOCATION:
SEQUENCE:0
SUMMARY:WEC San Antonio
UID:RFCALITEM639124498429935408
X-ALT-DESC;FMTTYPE=text/html:<div data-element-type="FlexRow"><div><div id=
 "widget:5cf147f7-94ba-4936-a312-37ba31a76f94" data-cvent-id="widget-conten
 t-NucleusText"><div data-cvent-id="widget-NucleusText-widget:5cf147f7-94ba
 -4936-a312-37ba31a76f94"><div><div><p>There is no bigger celebration of th
 e people and purpose of the business event industry than MPI&rsquo\;s Worl
 d Education Congress. Through a strategy of intentional event design\, per
 sonalized learning\, and the festive hospitality of San Antonio\, WEC will
  deliver what you need to skyrocket your event career.</p><p>Because of wh
 at you learn and who you meet at WEC\, your events will come alive like ne
 ver before.&nbsp\;</p></div></div></div></div></div></div><p></p>
END:VEVENT
END:VCALENDAR
