BEGIN:VCALENDAR
VERSION:2.0
METHOD:PUBLISH
PRODID:-//Telerik Inc.//Sitefinity CMS 15.3//EN
BEGIN:VTIMEZONE
TZID:Eastern Standard Time
BEGIN:STANDARD
DTSTART:20251102T020000
RRULE:FREQ=YEARLY;BYDAY=1SU;BYHOUR=2;BYMINUTE=0;BYMONTH=11
TZNAME:Eastern Standard Time
TZOFFSETFROM:-0400
TZOFFSETTO:-0500
END:STANDARD
BEGIN:DAYLIGHT
DTSTART:20250301T020000
RRULE:FREQ=YEARLY;BYDAY=2SU;BYHOUR=2;BYMINUTE=0;BYMONTH=3
TZNAME:Eastern Daylight Time
TZOFFSETFROM:-0500
TZOFFSETTO:-0400
END:DAYLIGHT
END:VTIMEZONE
BEGIN:VEVENT
DESCRIPTION:Make this the year you earn your Certified Meeting Professional
  (CMP) designation! The CMP Prep Course presented by MPI Potomac is specif
 ically designed to give you the structure\, support\, and tools you need t
 o achieve your certification goals.With recent updates from the Events Ind
 ustry Council (EIC)\, we have fully revamped our curriculum to align direc
 tly with the latest CMP International Standards&mdash\;the true foundation
  of the CMP exam. Led by experienced\, certified professionals\, this hybr
 id course provides a robust toolkit to support your exam preparation:On-De
 mand Learning: Get flexible access to videos\, handouts\, and practice qui
 zzes throughout the program\, plus an additional six months of access afte
 r completion.Live &amp\; Interactive Sessions: Participate in 8 weeks of l
 ive discussions that break down complex exam content and domains\, perfect
 ly complementing your self-paced study.Comprehensive Review: Gain insider 
 insights into exactly what to expect leading up to and during exam day.Ext
 ensive Practice: Test your knowledge and sharpen your skills with over 200
  scenario-based practice questions.Community &amp\; Support: Engage direct
 ly with expert facilitators and fellow peers during live Q&amp\;A sessions
  for ongoing guidance and encouragement.Spring 2026 Schedule: The course r
 uns from May 12 to June 30\, 2026\, featuring live virtual sessions every 
 Tuesday from 4:00 p.m. to 6:00 p.m.Event Pricing:Member $325Non Member $49
 5
DTEND;TZID=Eastern Standard Time:20260512T040000
DTSTAMP:20260422T133537Z
DTSTART;TZID=Eastern Standard Time:20260512T040000
LOCATION:Virtual
RRULE:FREQ=WEEKLY;UNTIL=20260707T080000Z;BYDAY=TU
SEQUENCE:0
SUMMARY:Spring 2026 CMP Prep Course
UID:RFCALITEM639124437377440726
X-ALT-DESC;FMTTYPE=text/html:<p dir="ltr" role="presentation">Make this the
  year you earn your Certified Meeting Professional (CMP) designation! The 
 CMP Prep Course presented by MPI Potomac is specifically designed to give 
 you the structure\, support\, and tools you need to achieve your certifica
 tion goals.</p><p dir="ltr">With recent updates from the Events Industry C
 ouncil (EIC)\, we have fully revamped our curriculum to align directly wit
 h the latest CMP International Standards&mdash\;the true foundation of the
  CMP exam. Led by experienced\, certified professionals\, this hybrid cour
 se provides a robust toolkit to support your exam preparation:</p><ul><li 
 dir="ltr" aria-level="1"><p dir="ltr" role="presentation"><strong>On-Deman
 d Learning:</strong> Get flexible access to videos\, handouts\, and practi
 ce quizzes throughout the program\, plus an additional six months of acces
 s after completion.</p></li><li dir="ltr" aria-level="1"><p dir="ltr" role
 ="presentation"><strong>Live &amp\; Interactive Sessions:</strong> Partici
 pate in 8 weeks of live discussions that break down complex exam content a
 nd domains\, perfectly complementing your self-paced study.</p></li><li di
 r="ltr" aria-level="1"><p dir="ltr" role="presentation"><strong>Comprehens
 ive Review: </strong>Gain insider insights into exactly what to expect lea
 ding up to and during exam day.</p></li><li dir="ltr" aria-level="1"><p di
 r="ltr" role="presentation"><strong>Extensive Practice: </strong>Test your
  knowledge and sharpen your skills with over 200 scenario-based practice q
 uestions.</p></li><li dir="ltr" aria-level="1"><p dir="ltr" role="presenta
 tion"><strong>Community &amp\; Support: </strong>Engage directly with expe
 rt facilitators and fellow peers during live Q&amp\;A sessions for ongoing
  guidance and encouragement.</p></li></ul><p><strong>Spring 2026 Schedule:
  </strong></p><p><strong></strong>The course runs from <strong>May 12 to J
 une 30\, 2026</strong>\, featuring live virtual sessions every <strong>Tue
 sday from 4:00 p.m. to 6:00 p.m.</strong></p><p><strong>Event Pricing:</st
 rong></p><p dir="ltr">Member $325</p><p dir="ltr">Non Member $495</p><p></
 p>
END:VEVENT
END:VCALENDAR
