BEGIN:VCALENDAR
VERSION:2.0
METHOD:PUBLISH
PRODID:-//Telerik Inc.//Sitefinity CMS 15.3//EN
BEGIN:VEVENT
DESCRIPTION:
DTEND;VALUE=DATE:20260605
DTSTAMP:20260421T154232Z
DTSTART;VALUE=DATE:20260602
LOCATION:
SEQUENCE:0
SUMMARY:WEC - San Antonio
UID:RFCALITEM639123649526914572
X-ALT-DESC;FMTTYPE=text/html:
END:VEVENT
END:VCALENDAR
