BEGIN:VCALENDAR
VERSION:2.0
METHOD:PUBLISH
PRODID:-//Telerik Inc.//Sitefinity CMS 15.3//EN
BEGIN:VTIMEZONE
TZID:Central Standard Time
BEGIN:STANDARD
DTSTART:20251102T020000
RRULE:FREQ=YEARLY;BYDAY=1SU;BYHOUR=2;BYMINUTE=0;BYMONTH=11
TZNAME:Central Standard Time
TZOFFSETFROM:-0500
TZOFFSETTO:-0600
END:STANDARD
BEGIN:DAYLIGHT
DTSTART:20250301T020000
RRULE:FREQ=YEARLY;BYDAY=2SU;BYHOUR=2;BYMINUTE=0;BYMONTH=3
TZNAME:Central Daylight Time
TZOFFSETFROM:-0600
TZOFFSETTO:-0500
END:DAYLIGHT
END:VTIMEZONE
BEGIN:VEVENT
DESCRIPTION:&nbsp\;As the home chapter\, the MPI Texas Hill Country Chapter
  has a special opportunity to help drive attendance and showcase our local
  community.&nbsp\;So don&rsquo\;t wait! Register Now\, spread the word\, a
 nd help MPI Texas Hill Country Chapter show up strong for MPI WEC 2026.Lea
 rn more: https://mpi.org/wec#WECSanAntonio&nbsp\; #WEC26
DTEND:20260605T020000Z
DTSTAMP:20260421T132308Z
DTSTART:20260602T130000Z
LOCATION:
SEQUENCE:0
SUMMARY:MPI World Education Congress (WEC 2026)
UID:RFCALITEM639123565884659035
X-ALT-DESC;FMTTYPE=text/html:<div data-block="true" data-editor="5lmh6" dat
 a-offset-key="elb1l-0-0"><div data-offset-key="elb1l-0-0"><p>&nbsp\;</p><p
  style="text-align:center\;"><span style="font-size:large\;"><span style="
 font-size:x-large\;">As the home chapter\, the <strong>MPI Texas Hill Coun
 try Chapter</strong> has a special opportunity to help drive attendance an
 d showcase our local community.&nbsp\;</span></span></p><p style="text-ali
 gn:center\;"><span style="font-size:large\;"></span><span style="font-size
 :x-large\;background-color:transparent\;color:inherit\;font-family:inherit
 \;text-align:inherit\;text-transform:inherit\;word-spacing:normal\;caret-c
 olor:auto\;white-space:inherit\;">So don&rsquo\;t wait! </span><span style
 ="font-size:x-large\;"><a href="https://wec.mpi.org/event/bf417678-1de0-4d
 93-b668-9ed7d5336ecd/home" target="_blank" style="font-size:large\;font-fa
 mily:inherit\;text-align:inherit\;text-transform:inherit\;word-spacing:nor
 mal\;white-space:inherit\;"><strong>Register Now</strong></a><strong style
 ="font-size:large\;background-color:transparent\;color:inherit\;text-align
 :inherit\;text-transform:inherit\;word-spacing:normal\;caret-color:auto\;w
 hite-space:inherit\;">\, </strong></span><span style="font-size:x-large\;b
 ackground-color:transparent\;color:inherit\;font-family:inherit\;text-alig
 n:inherit\;text-transform:inherit\;word-spacing:normal\;caret-color:auto\;
 white-space:inherit\;">spread the word\, and help </span><span style="font
 -size:x-large\;">MPI Texas Hill Country Chapter</span><span style="font-si
 ze:x-large\;background-color:transparent\;color:inherit\;font-family:inher
 it\;text-align:inherit\;text-transform:inherit\;word-spacing:normal\;caret
 -color:auto\;white-space:inherit\;"> show up strong for MPI WEC 2026.</spa
 n></p></div></div><div data-block="true" data-editor="5lmh6" data-offset-k
 ey="dujiq-0-0"><div data-offset-key="dujiq-0-0" style="text-align:center\;
 "><p><span style="font-size:large\;">Learn more: <a href="https://mpi.org/
 wec" target="_blank">https://mpi.org/wec</a></span></p><p><span style="fon
 t-size:large\;">#WECSanAntonio&nbsp\; #WEC26</span></p></div></div>
END:VEVENT
END:VCALENDAR
