BEGIN:VCALENDAR
VERSION:2.0
METHOD:PUBLISH
PRODID:-//Telerik Inc.//Sitefinity CMS 15.3//EN
BEGIN:VTIMEZONE
TZID:Eastern Standard Time
BEGIN:STANDARD
DTSTART:20251102T020000
RRULE:FREQ=YEARLY;BYDAY=1SU;BYHOUR=2;BYMINUTE=0;BYMONTH=11
TZNAME:Eastern Standard Time
TZOFFSETFROM:-0400
TZOFFSETTO:-0500
END:STANDARD
BEGIN:DAYLIGHT
DTSTART:20250301T020000
RRULE:FREQ=YEARLY;BYDAY=2SU;BYHOUR=2;BYMINUTE=0;BYMONTH=3
TZNAME:Eastern Daylight Time
TZOFFSETFROM:-0500
TZOFFSETTO:-0400
END:DAYLIGHT
END:VTIMEZONE
BEGIN:VEVENT
DESCRIPTION:Join MPI for a meaningful Community Impact Event at&nbsp\;Rethr
 eaded\, where purpose meets connection. Together\, we&rsquo\;ll support an
  organization dedicated to empowering survivors of human trafficking throu
 gh employment\, skill-building\, and community.This hands-on experience in
 vites MPI members to step beyond traditional networking and make a tangibl
 e difference. Whether you&rsquo\;re contributing your time\, learning more
  about Rethreaded&rsquo\;s mission\, or connecting with fellow members who
  share a passion for giving back\, this event is all about impact&mdash\;b
 oth within our industry and beyond it.Come be part of something bigger as 
 we weave together community\, compassion\, and purpose.There are only 30 s
 pots available so register early!
DTEND:20260619T203000Z
DTSTAMP:20260422T202303Z
DTSTART:20260619T173000Z
LOCATION:FL\,USA\,Jacksonville\,515 E. 9th St
SEQUENCE:0
SUMMARY:Rethreaded - Community Impact Event
UID:RFCALITEM639124681830643117
X-ALT-DESC;FMTTYPE=text/html:<p data-start="218" data-end="486">Join MPI fo
 r a meaningful Community Impact Event at&nbsp\;Rethreaded\, where purpose 
 meets connection. Together\, we&rsquo\;ll support an organization dedicate
 d to empowering survivors of human trafficking through employment\, skill-
 building\, and community.</p><p data-start="488" data-end="825">This hands
 -on experience invites MPI members to step beyond traditional networking a
 nd make a tangible difference. Whether you&rsquo\;re contributing your tim
 e\, learning more about Rethreaded&rsquo\;s mission\, or connecting with f
 ellow members who share a passion for giving back\, this event is all abou
 t impact&mdash\;both within our industry and beyond it.</p><p data-start="
 827" data-end="916">Come be part of something bigger as we weave together 
 community\, compassion\, and purpose.<strong></strong></p><p data-start="8
 27" data-end="916"><strong>There are only 30 spots available so register e
 arly!</strong></p>
END:VEVENT
END:VCALENDAR
