BEGIN:VCALENDAR
VERSION:2.0
METHOD:PUBLISH
PRODID:-//Telerik Inc.//Sitefinity CMS 15.3//EN
BEGIN:VTIMEZONE
TZID:Eastern Standard Time
BEGIN:STANDARD
DTSTART:20251102T020000
RRULE:FREQ=YEARLY;BYDAY=1SU;BYHOUR=2;BYMINUTE=0;BYMONTH=11
TZNAME:Eastern Standard Time
TZOFFSETFROM:-0400
TZOFFSETTO:-0500
END:STANDARD
BEGIN:DAYLIGHT
DTSTART:20250301T020000
RRULE:FREQ=YEARLY;BYDAY=2SU;BYHOUR=2;BYMINUTE=0;BYMONTH=3
TZNAME:Eastern Daylight Time
TZOFFSETFROM:-0500
TZOFFSETTO:-0400
END:DAYLIGHT
END:VTIMEZONE
BEGIN:VEVENT
DESCRIPTION:Join us at 1607 Coffee Company! Coffee &amp\; Lunchbox to mix a
 nd mingle with MPI Virginia over coffee!&nbsp\;Member &amp\; Non-Member Re
 gistration - FREE
DTEND:20260506T130000Z
DTSTAMP:20260422T054028Z
DTSTART:20260506T120000Z
LOCATION:Virginia\,Williamsburg\,1303 Jamestown Rd.
SEQUENCE:0
SUMMARY:MPI Virginia Morning Brew Meet-Up May 2026
UID:RFCALITEM639124152285436162
X-ALT-DESC;FMTTYPE=text/html:<h3><span></span></h3><p style="text-align:cen
 ter\;"><span style="background-color:transparent\;color:inherit\;font-fami
 ly:inherit\;font-size:inherit\;text-align:inherit\;text-transform:inherit\
 ;word-spacing:normal\;caret-color:auto\;white-space:inherit\;">Join us at 
 1607 Coffee Company! Coffee &amp\; Lunchbox to mix and mingle with MPI Vir
 ginia over coffee!&nbsp\;</span></p><div data-block="true" data-editor="c4
 4kt" data-offset-key="2gf1d-0-0"><div data-offset-key="2gf1d-0-0"><p style
 ="text-align:center\;"><span style="background-color:transparent\;color:in
 herit\;font-family:inherit\;font-size:inherit\;text-align:inherit\;text-tr
 ansform:inherit\;word-spacing:normal\;caret-color:auto\;white-space:inheri
 t\;">Member &amp\; Non-Member Registration - FREE</span></p></div></div><p
  style="text-align:center\;"><br /></p>
END:VEVENT
END:VCALENDAR
