BEGIN:VCALENDAR
VERSION:2.0
METHOD:PUBLISH
PRODID:-//Telerik Inc.//Sitefinity CMS 15.3//EN
BEGIN:VTIMEZONE
TZID:Central Standard Time
BEGIN:STANDARD
DTSTART:20251102T020000
RRULE:FREQ=YEARLY;BYDAY=1SU;BYHOUR=2;BYMINUTE=0;BYMONTH=11
TZNAME:Central Standard Time
TZOFFSETFROM:-0500
TZOFFSETTO:-0600
END:STANDARD
BEGIN:DAYLIGHT
DTSTART:20250301T020000
RRULE:FREQ=YEARLY;BYDAY=2SU;BYHOUR=2;BYMINUTE=0;BYMONTH=3
TZNAME:Central Daylight Time
TZOFFSETFROM:-0600
TZOFFSETTO:-0500
END:DAYLIGHT
END:VTIMEZONE
BEGIN:VEVENT
DESCRIPTION:Event details and registration coming soon!
DTEND:20260821T000000Z
DTSTAMP:20260421T191346Z
DTSTART:20260820T213000Z
LOCATION:LA\,New Orleans\,511 Bourbon St
SEQUENCE:0
SUMMARY:August 2026 Networking Event
UID:RFCALITEM639123776268468020
X-ALT-DESC;FMTTYPE=text/html:<div><span style="font-family:open_sanssemibol
 d\, Arial\, Verdana\, sans-serif\;"><strong>Event details and registration
  coming soon!</strong></span></div>
END:VEVENT
END:VCALENDAR
