BEGIN:VCALENDAR
VERSION:2.0
METHOD:PUBLISH
PRODID:-//Telerik Inc.//Sitefinity CMS 15.3//EN
BEGIN:VTIMEZONE
TZID:Central Standard Time
BEGIN:STANDARD
DTSTART:20251102T020000
RRULE:FREQ=YEARLY;BYDAY=1SU;BYHOUR=2;BYMINUTE=0;BYMONTH=11
TZNAME:Central Standard Time
TZOFFSETFROM:-0500
TZOFFSETTO:-0600
END:STANDARD
BEGIN:DAYLIGHT
DTSTART:20250301T020000
RRULE:FREQ=YEARLY;BYDAY=2SU;BYHOUR=2;BYMINUTE=0;BYMONTH=3
TZNAME:Central Daylight Time
TZOFFSETFROM:-0600
TZOFFSETTO:-0500
END:DAYLIGHT
END:VTIMEZONE
BEGIN:VEVENT
DESCRIPTION:Join us for our monthly meetup\, open to ALL members &amp\; non
 -members without prior registration. Come hang from 5-7pm at a new locatio
 n around the city!&nbsp\;Date: Wednesday\, July 29Time: 5:00 - 7:00 pmLoca
 tion: Mae's Tavern1511 Westport RoadKansas City\, MO 64111
DTEND:20260730T000000Z
DTSTAMP:20260421T165118Z
DTSTART:20260729T220000Z
LOCATION:MO\,Kansas City\,1511 Westport Road
SEQUENCE:0
SUMMARY:July Monthly Meetup | Mae's Tavern
UID:RFCALITEM639123690785719828
X-ALT-DESC;FMTTYPE=text/html:<p data-prosemirror-content-type="node" data-p
 rosemirror-node-name="paragraph" data-prosemirror-node-block="true" data-p
 m-slice="1 1 []">Join us for our monthly meetup\, open to ALL members &amp
 \; non-members without prior registration. Come hang from 5-7pm at a new l
 ocation around the city!&nbsp\;</p><div><p>Date: Wednesday\, July 29</p></
 div><div><p>Time: 5:00 - 7:00 pm</p></div><div><p>Location: <a href="https
 ://maestavern.com">Mae's Tavern</a><br />1511 Westport Road<br />Kansas Ci
 ty\, MO 64111</p></div>
END:VEVENT
END:VCALENDAR
