BEGIN:VCALENDAR
VERSION:2.0
METHOD:PUBLISH
PRODID:-//Telerik Inc.//Sitefinity CMS 15.3//EN
BEGIN:VEVENT
DESCRIPTION:Learn how to earn the right conversations\, increase quality ap
 pointments\, and lead discussions that convert into real opportunities.Lea
 rn more here:https://www.ciarafeely.com/steps-to-win-tradeshows-1&nbsp\;&n
 bsp\;
DTEND;VALUE=DATE:20260422
DTSTAMP:20260421T083717Z
DTSTART;VALUE=DATE:20260421
LOCATION:Online
SEQUENCE:0
SUMMARY:The Missing Link Between Trade Show Appointments and Driving Real R
 evenue
UID:RFCALITEM639123394376018634
X-ALT-DESC;FMTTYPE=text/html:<div></div><div><div><p data-olk-copy-source="
 MessageBody">Learn how to earn the right conversations\, increase quality 
 appointments\, and lead discussions that convert into real opportunities.<
 /p><p>Learn more here:</p></div></div><div><p><a href="https://nam11.safel
 inks.protection.outlook.com/?url=https%3A%2F%2Furldefense.com%2Fv3%2F__htt
 ps%3A%2Fwww.ciarafeely.com%2Fsteps-to-win-tradeshows-1__%3B!!KSjYCgUGsB4!Y
 sRoJWrG6uZy880kq4ZhdyybMAEZckTrJjrO9A9Qjz5pGdMeqN11DirEcVPn9bXL0eeUXnVWPeK
 B7eeUWCmjKA%24&amp\;data=05%7C02%7C%7Ca08e785b3444468c028608de9954a8fb%7Cc
 db191c8fc034343aead2808b21fd513%7C0%7C0%7C639116786640480970%7CUnknown%7CT
 WFpbGZsb3d8eyJFbXB0eU1hcGkiOnRydWUsIlYiOiIwLjAuMDAwMCIsIlAiOiJXaW4zMiIsIkF
 OIjoiTWFpbCIsIldUIjoyfQ%3D%3D%7C0%7C%7C%7C&amp\;sdata=bvjd%2FTiyr9O%2FCBAw
 HscL%2F04kO54WLcdW%2Fj0WyKU%2Fllo%3D&amp\;reserved=0" target="_blank" rel=
 "noopener noreferrer" data-auth="NotApplicable" originalsrc="https://urlde
 fense.com/v3/__https:/www.ciarafeely.com/steps-to-win-tradeshows-1__\;!!KS
 jYCgUGsB4!YsRoJWrG6uZy880kq4ZhdyybMAEZckTrJjrO9A9Qjz5pGdMeqN11DirEcVPn9bXL
 0eeUXnVWPeKB7eeUWCmjKA$" data-linkindex="0" title="Original URL: https://u
 rldefense.com/v3/__https:/www.ciarafeely.com/steps-to-win-tradeshows-1__\;
 !!KSjYCgUGsB4!YsRoJWrG6uZy880kq4ZhdyybMAEZckTrJjrO9A9Qjz5pGdMeqN11DirEcVPn
 9bXL0eeUXnVWPeKB7eeUWCmjKA$. Click or tap if you trust this link.">https:/
 /www.ciarafeely.com/steps-to-win-tradeshows-1</a><span style="background-c
 olor:transparent\;color:inherit\;font-family:inherit\;font-size:inherit\;t
 ext-align:inherit\;text-transform:inherit\;word-spacing:normal\;caret-colo
 r:auto\;white-space:inherit\;"></span></p></div><div><p>&nbsp\;</p></div><
 p><strong>&nbsp\;</strong></p>
END:VEVENT
END:VCALENDAR
