BEGIN:VCALENDAR
VERSION:2.0
METHOD:PUBLISH
PRODID:-//Telerik Inc.//Sitefinity CMS 15.3//EN
BEGIN:VTIMEZONE
TZID:Central Standard Time
BEGIN:STANDARD
DTSTART:20251102T020000
RRULE:FREQ=YEARLY;BYDAY=1SU;BYHOUR=2;BYMINUTE=0;BYMONTH=11
TZNAME:Central Standard Time
TZOFFSETFROM:-0500
TZOFFSETTO:-0600
END:STANDARD
BEGIN:DAYLIGHT
DTSTART:20250301T020000
RRULE:FREQ=YEARLY;BYDAY=2SU;BYHOUR=2;BYMINUTE=0;BYMONTH=3
TZNAME:Central Daylight Time
TZOFFSETFROM:-0600
TZOFFSETTO:-0500
END:DAYLIGHT
END:VTIMEZONE
BEGIN:VEVENT
DESCRIPTION:Join us for MPI-CAC&rsquo\;s Leadership Day 2026 &mdash\; an af
 ternoon dedicated to growth\, connection\, and leadership development.&nbs
 p\;&nbsp\;This year&rsquo\;s program features keynote speaker Christine Sa
 ndman Stone\, delivering actionable strategies to help you scale your impa
 ct\, sharpen your focus\, and lead with clarity in a demanding event lands
 cape.&nbsp\; Designed for both current and emerging leaders\, Leadership D
 ay brings together our community for meaningful conversations\, practical 
 tools\, and intentional networking.This half-day program is&nbsp\;complime
 ntary to current chapter members\, and features a keynote and interactive 
 workshop\, followed by a panel. The day concludes with a networking recept
 ion - an opportunity to connect with peers\, explore volunteer pathways\, 
 and strengthen our community.
DTEND:20260505T233000Z
DTSTAMP:20260423T160031Z
DTSTART:20260505T190000Z
LOCATION:IL\,Chicago\,339 N Bell Ave
SEQUENCE:0
SUMMARY:MPI-CAC 2026 Leadership Day
UID:RFCALITEM639125388314603328
X-ALT-DESC;FMTTYPE=text/html:<div data-element-type="FlexRow"><div><div id=
 "widget:8ee2d78c-0d82-4a66-90f5-f06c5ee5d380" data-cvent-id="widget-conten
 t-NucleusText"><div data-cvent-id="widget-NucleusText-widget:8ee2d78c-0d82
 -4a66-90f5-f06c5ee5d380"><div><div><p><span style="background-color:transp
 arent\;color:inherit\;font-family:inherit\;font-size:inherit\;text-align:i
 nherit\;text-transform:inherit\;word-spacing:normal\;caret-color:auto\;whi
 te-space:inherit\;">Join us for MPI-CAC&rsquo\;s Leadership Day 2026 &mdas
 h\; an afternoon dedicated to growth\, connection\, and leadership develop
 ment.&nbsp\;&nbsp\;</span></p></div></div></div></div></div></div><div dat
 a-element-type="FlexRow"><div id="widget:0dd9e0c0-a6ec-4fa0-b1ee-0217a9028
 532" data-cvent-id="widget-content-Container"><div data-cvent-id="containe
 rParent"><div data-cvent-id="containerChild"><div data-element-type="FlexR
 ow"><div id="widget:54ba0642-d5a5-4f65-b499-0f4738e36bf2" data-cvent-id="w
 idget-content-NucleusText"><div data-cvent-id="widget-NucleusText-widget:5
 4ba0642-d5a5-4f65-b499-0f4738e36bf2"><p>This year&rsquo\;s program feature
 s keynote speaker Christine Sandman Stone\, delivering actionable strategi
 es to help you scale your impact\, sharpen your focus\, and lead with clar
 ity in a demanding event landscape.&nbsp\; Designed for both current and e
 merging leaders\, Leadership Day brings together our community for meaning
 ful conversations\, practical tools\, and intentional networking.</p></div
 ></div></div><div data-element-type="FlexRow"><div><div id="widget:fe2c9ea
 7-76c1-4f30-bc6d-b5e7bef49698" data-cvent-id="widget-content-NucleusText">
 <div data-cvent-id="widget-NucleusText-widget:fe2c9ea7-76c1-4f30-bc6d-b5e7
 bef49698"><div><div><p>This half-day program is&nbsp\;complimentary to cur
 rent chapter members\, and features a keynote and interactive workshop\, f
 ollowed by a panel. The day concludes with a networking reception - an opp
 ortunity to connect with peers\, explore volunteer pathways\, and strength
 en our community.</p></div></div></div></div></div></div></div></div></div
 ></div>
END:VEVENT
END:VCALENDAR
