BEGIN:VCALENDAR
VERSION:2.0
METHOD:PUBLISH
PRODID:-//Telerik Inc.//Sitefinity CMS 15.3//EN
BEGIN:VTIMEZONE
TZID:Eastern Standard Time
BEGIN:STANDARD
DTSTART:20251102T020000
RRULE:FREQ=YEARLY;BYDAY=1SU;BYHOUR=2;BYMINUTE=0;BYMONTH=11
TZNAME:Eastern Standard Time
TZOFFSETFROM:-0400
TZOFFSETTO:-0500
END:STANDARD
BEGIN:DAYLIGHT
DTSTART:20250301T020000
RRULE:FREQ=YEARLY;BYDAY=2SU;BYHOUR=2;BYMINUTE=0;BYMONTH=3
TZNAME:Eastern Daylight Time
TZOFFSETFROM:-0500
TZOFFSETTO:-0400
END:DAYLIGHT
END:VTIMEZONE
BEGIN:VEVENT
DESCRIPTION:There is no bigger celebration of the people and purpose of the
  business event industry than MPI&rsquo\;s World Education Congress. Throu
 gh a strategy of intentional event design\, personalized learning\, and th
 e festive hospitality of San Antonio\, WEC will deliver what you need to s
 kyrocket your event career.Because of what you learn and who you meet at W
 EC\, your events will come alive like never before.&nbsp\;WEC San AntonioJ
 une 2-4\, 2026Learn more and register here:&nbsp\;https://www.mpi.org/wecW
 hy Attend?&nbsp\; Discover Your Next Big IdeaGet inspired. Take action:&nb
 sp\;&nbsp\;Not only is what you learn at WEC incredible\, it's actionable.
  Through thought-provoking keynotes and interactive sessions\, gain insigh
 ts and skills that will transform the way you create event here.Make lasti
 ng connections:&nbsp\;At WEC\, networking is foundational\, not an afterth
 ought. Each encounter\, planned or unplanned\, aims to create meaningful\,
  enduring connections.Grow your event business:&nbsp\;WEC is the place to 
 fill your sales pipeline and solidify your future event business. You&rsqu
 o\;ll meet the right people and the right time and ensure your brand stand
 s out to the planners who need it the mostDiscover San Antonio:&nbsp\;The 
 vibrant people of San Antonio and the MPI Texas Hill Country Chapter look 
 forward to celebrating with you and showcasing why this city is the perfec
 t host for an unforgettable WEC.
DTEND:20260605T010000Z
DTSTAMP:20260420T140616Z
DTSTART:20260602T170000Z
LOCATION:TX\,San Antonio
SEQUENCE:0
SUMMARY:2026 World Education Congress (San Antonio)
UID:RFCALITEM639122727766601983
X-ALT-DESC;FMTTYPE=text/html:<p></p><p>There is no bigger celebration of th
 e people and purpose of the business event industry than MPI&rsquo\;s Worl
 d Education Congress. Through a strategy of intentional event design\, per
 sonalized learning\, and the festive hospitality of San Antonio\, WEC will
  deliver what you need to skyrocket your event career.</p><p>Because of wh
 at you learn and who you meet at WEC\, your events will come alive like ne
 ver before.&nbsp\;</p><div>WEC San Antonio</div><div>June 2-4\, 2026</div>
 <div><br /></div><div><p>Learn more and register here:&nbsp\;<a href="http
 s://www.mpi.org/wec/wec">https://www.mpi.org/wec</a></p><div>Why Attend?&n
 bsp\; Discover Your Next Big Idea</div><div><br /></div><div data-element-
 type="FlexRow"><div id="widget:ff5d675d-2197-48a4-b116-3770c70a5595" data-
 cvent-id="widget-content-NucleusText"><div data-cvent-id="widget-NucleusTe
 xt-widget:ff5d675d-2197-48a4-b116-3770c70a5595"><p><strong>Get inspired. T
 ake action:&nbsp\;&nbsp\;</strong>Not only is what you learn at WEC incred
 ible\, it's actionable. Through thought-provoking keynotes and interactive
  sessions\, gain insights and skills that will transform the way you creat
 e event here.</p></div></div></div><div><p><strong></strong><strong>Make l
 asting connections:&nbsp\;</strong>At WEC\, networking is foundational\, n
 ot an afterthought. Each encounter\, planned or unplanned\, aims to create
  meaningful\, enduring connections.</p></div></div><div data-element-type=
 "FlexRow"><div id="widget:b797a9ea-2d9a-41be-9654-d238601865f9" data-cvent
 -id="widget-content-NucleusText"><div data-cvent-id="widget-NucleusText-wi
 dget:b797a9ea-2d9a-41be-9654-d238601865f9"><div data-element-type="FlexRow
 "><div id="widget:3201805d-9ae0-460a-b336-25beb2f4ab02" data-cvent-id="wid
 get-content-NucleusText"><div data-cvent-id="widget-NucleusText-widget:320
 1805d-9ae0-460a-b336-25beb2f4ab02"><p><strong></strong><strong>Grow your e
 vent business:&nbsp\;</strong>WEC is the place to fill your sales pipeline
  and solidify your future event business. You&rsquo\;ll meet the right peo
 ple and the right time and ensure your brand stands out to the planners wh
 o need it the most</p></div></div></div><div data-element-type="FlexRow"><
 div id="widget:cd554f42-f4f2-4dc3-ba12-b1fa92981bb1" data-cvent-id="widget
 -content-NucleusText"><div data-cvent-id="widget-NucleusText-widget:cd554f
 42-f4f2-4dc3-ba12-b1fa92981bb1"><p><strong></strong><strong>Discover San A
 ntonio:&nbsp\;</strong>The vibrant people of San Antonio and the MPI Texas
  Hill Country Chapter look forward to celebrating with you and showcasing 
 why this city is the perfect host for an unforgettable WEC.</p></div></div
 ></div></div></div></div>
END:VEVENT
END:VCALENDAR
