BEGIN:VCALENDAR
VERSION:2.0
METHOD:PUBLISH
PRODID:-//Telerik Inc.//Sitefinity CMS 15.3//EN
BEGIN:VTIMEZONE
TZID:Eastern Standard Time
BEGIN:STANDARD
DTSTART:20251102T020000
RRULE:FREQ=YEARLY;BYDAY=1SU;BYHOUR=2;BYMINUTE=0;BYMONTH=11
TZNAME:Eastern Standard Time
TZOFFSETFROM:-0400
TZOFFSETTO:-0500
END:STANDARD
BEGIN:DAYLIGHT
DTSTART:20250301T020000
RRULE:FREQ=YEARLY;BYDAY=2SU;BYHOUR=2;BYMINUTE=0;BYMONTH=3
TZNAME:Eastern Daylight Time
TZOFFSETFROM:-0500
TZOFFSETTO:-0400
END:DAYLIGHT
END:VTIMEZONE
BEGIN:VEVENT
DESCRIPTION:Join MPI North Florida for our highly anticipated June Brunch\,
  an energizing and insightful gathering designed to bring our industry com
 munity together in a meaningful way. Back by popular demand after last yea
 r&rsquo\;s incredible success\, this event features a variety of dynamic r
 oundtable discussions covering timely topics that matter most to meeting a
 nd event professionals today.Emceed by the engaging and industry-renowned&
 nbsp\;Lisa Messina\, each table offers a unique opportunity to connect\, c
 ollaborate\, and exchange ideas with peers and experts in an interactive s
 etting. Expect valuable takeaways\, fresh perspectives\, and real conversa
 tions you can actually use in your day-to-day work.This is more than just 
 a brunch&mdash\;it&rsquo\;s a chance to learn\, network\, and be inspired.
  With so much great and useful information being shared\, this is one even
 t you truly don&rsquo\;t want to miss!REGISTRATION LINK COMING SOON!
DTEND:20260609T160000Z
DTSTAMP:20260422T150344Z
DTSTART:20260609T133000Z
LOCATION:FL\,USA\,Jacksonville\,314 Palmetto St
SEQUENCE:0
SUMMARY:MPI June Brunch
UID:RFCALITEM639124490245046592
X-ALT-DESC;FMTTYPE=text/html:<p data-start="86" data-end="465">Join MPI Nor
 th Florida for our highly anticipated June Brunch\, an energizing and insi
 ghtful gathering designed to bring our industry community together in a me
 aningful way. Back by popular demand after last year&rsquo\;s incredible s
 uccess\, this event features a variety of dynamic roundtable discussions c
 overing timely topics that matter most to meeting and event professionals 
 today.</p><p data-start="467" data-end="799">Emceed by the engaging and in
 dustry-renowned&nbsp\;Lisa Messina\, each table offers a unique opportunit
 y to connect\, collaborate\, and exchange ideas with peers and experts in 
 an interactive setting. Expect valuable takeaways\, fresh perspectives\, a
 nd real conversations you can actually use in your day-to-day work.</p><p 
 data-start="801" data-end="986" data-is-last-node="" data-is-only-node="">
 This is more than just a brunch&mdash\;it&rsquo\;s a chance to learn\, net
 work\, and be inspired. With so much great and useful information being sh
 ared\, this is one event you truly don&rsquo\;t want to miss!</p><p data-s
 tart="801" data-end="986" data-is-last-node="" data-is-only-node="" style=
 "text-align:center\;"><strong>REGISTRATION LINK COMING SOON!</strong></p>
END:VEVENT
END:VCALENDAR
