BEGIN:VCALENDAR
VERSION:2.0
METHOD:PUBLISH
PRODID:-//Telerik Inc.//Sitefinity CMS 15.3//EN
BEGIN:VTIMEZONE
TZID:Eastern Standard Time
BEGIN:STANDARD
DTSTART:20251102T020000
RRULE:FREQ=YEARLY;BYDAY=1SU;BYHOUR=2;BYMINUTE=0;BYMONTH=11
TZNAME:Eastern Standard Time
TZOFFSETFROM:-0400
TZOFFSETTO:-0500
END:STANDARD
BEGIN:DAYLIGHT
DTSTART:20250301T020000
RRULE:FREQ=YEARLY;BYDAY=2SU;BYHOUR=2;BYMINUTE=0;BYMONTH=3
TZNAME:Eastern Daylight Time
TZOFFSETFROM:-0500
TZOFFSETTO:-0400
END:DAYLIGHT
END:VTIMEZONE
BEGIN:VEVENT
DESCRIPTION:Join MPI North Florida for an unforgettable evening of elegance
 \, celebration\, and connection at the stunning&nbsp\;World Equestrian Cen
 ter. Set against a backdrop of world-class beauty and sophistication\, thi
 s year&rsquo\;s Gala &amp\; Awards will bring together the North Florida's
  meeting and event professionals for a night dedicated to honoring excelle
 nce within our industry.From the moment you arrive\, you&rsquo\;ll be imme
 rsed in an elevated experience featuring exceptional cuisine\, inspiring m
 oments\, and the recognition of those who have made a lasting impact in ou
 r industry. Celebrate achievements\, connect with peers\, and enjoy a trul
 y memorable evening in one of Florida&rsquo\;s most unique and breathtakin
 g venues.Transportation will be seamlessly provided from Jacksonville via 
 Majestic Transportation\, allowing you to relax and enjoy the journey as p
 art of the overall experience.Step into a night where luxury meets celebra
 tion&mdash\;and where our industry&rsquo\;s brightest stars take center st
 age.REGISTRATION COMING SOON!
DTEND:20271120T020000Z
DTSTAMP:20260422T202333Z
DTSTART:20261119T230000Z
LOCATION:FL\,USA\,Ocala\,1750 NW 80th Ave
SEQUENCE:0
SUMMARY:MPI Gala & Awards
UID:RFCALITEM639124682135714486
X-ALT-DESC;FMTTYPE=text/html:<p data-start="185" data-end="558">Join MPI No
 rth Florida for an unforgettable evening of elegance\, celebration\, and c
 onnection at the stunning&nbsp\;World Equestrian Center. Set against a bac
 kdrop of world-class beauty and sophistication\, this year&rsquo\;s Gala &
 amp\; Awards will bring together the North Florida's meeting and event pro
 fessionals for a night dedicated to honoring excellence within our industr
 y.</p><p data-start="560" data-end="897">From the moment you arrive\, you&
 rsquo\;ll be immersed in an elevated experience featuring exceptional cuis
 ine\, inspiring moments\, and the recognition of those who have made a las
 ting impact in our industry. Celebrate achievements\, connect with peers\,
  and enjoy a truly memorable evening in one of Florida&rsquo\;s most uniqu
 e and breathtaking venues.</p><p data-start="899" data-end="1067">Transpor
 tation will be seamlessly provided from Jacksonville via Majestic Transpor
 tation\, allowing you to relax and enjoy the journey as part of the overal
 l experience.</p><p data-start="1069" data-end="1177">Step into a night wh
 ere luxury meets celebration&mdash\;and where our industry&rsquo\;s bright
 est stars take center stage.</p><p data-start="1069" data-end="1177" style
 ="text-align:center\;"><strong>REGISTRATION COMING SOON!</strong></p>
END:VEVENT
END:VCALENDAR
