BEGIN:VCALENDAR
VERSION:2.0
METHOD:PUBLISH
PRODID:-//Telerik Inc.//Sitefinity CMS 15.3//EN
BEGIN:VTIMEZONE
TZID:Central Standard Time
BEGIN:STANDARD
DTSTART:20251102T020000
RRULE:FREQ=YEARLY;BYDAY=1SU;BYHOUR=2;BYMINUTE=0;BYMONTH=11
TZNAME:Central Standard Time
TZOFFSETFROM:-0500
TZOFFSETTO:-0600
END:STANDARD
BEGIN:DAYLIGHT
DTSTART:20250301T020000
RRULE:FREQ=YEARLY;BYDAY=2SU;BYHOUR=2;BYMINUTE=0;BYMONTH=3
TZNAME:Central Daylight Time
TZOFFSETFROM:-0600
TZOFFSETTO:-0500
END:DAYLIGHT
END:VTIMEZONE
BEGIN:VEVENT
DESCRIPTION:DJ + Mudbugs + YouJoin us for a member social and crawfish boil
  and wrap up your week! Whether you&rsquo\;re a mud bug fan or just here f
 or the good vibes\, there&rsquo\;s a spot at the table for everyone. Non-c
 rawfish eaters\, fear not&mdash\;come enjoy the party\, laughs\, and music
 !Our DJ will keep the tunes rolling while you mingle\, and every registrat
 ion comes with&nbsp\;one drink ticket. After that\, the&nbsp\;cash bar&nbs
 p\;is ready for whatever keeps your Friday feeling festive.Don&rsquo\;t mi
 ss out&mdash\;good food\, great music\, and even better company!
DTEND:20260501T210000Z
DTSTAMP:20260421T124203Z
DTSTART:20260501T170000Z
LOCATION:TX\,Houston\,310 North Street
SEQUENCE:0
SUMMARY:Crawfish Boil Darty!
UID:RFCALITEM639123541233551970
X-ALT-DESC;FMTTYPE=text/html:<p>DJ + Mudbugs + You</p><p>Join us for a memb
 er social and crawfish boil and wrap up your week! Whether you&rsquo\;re a
  mud bug fan or just here for the good vibes\, there&rsquo\;s a spot at th
 e table for everyone. Non-crawfish eaters\, fear not&mdash\;come enjoy the
  party\, laughs\, and music!</p><p>Our DJ will keep the tunes rolling whil
 e you mingle\, and every registration comes with&nbsp\;one drink ticket. A
 fter that\, the&nbsp\;cash bar&nbsp\;is ready for whatever keeps your Frid
 ay feeling festive.</p><p>Don&rsquo\;t miss out&mdash\;good food\, great m
 usic\, and even better company!</p>
END:VEVENT
END:VCALENDAR
