BEGIN:VCALENDAR
VERSION:2.0
METHOD:PUBLISH
PRODID:-//Telerik Inc.//Sitefinity CMS 15.3//EN
BEGIN:VTIMEZONE
TZID:Eastern Standard Time
BEGIN:STANDARD
DTSTART:20251102T020000
RRULE:FREQ=YEARLY;BYDAY=1SU;BYHOUR=2;BYMINUTE=0;BYMONTH=11
TZNAME:Eastern Standard Time
TZOFFSETFROM:-0400
TZOFFSETTO:-0500
END:STANDARD
BEGIN:DAYLIGHT
DTSTART:20250301T020000
RRULE:FREQ=YEARLY;BYDAY=2SU;BYHOUR=2;BYMINUTE=0;BYMONTH=3
TZNAME:Eastern Daylight Time
TZOFFSETFROM:-0500
TZOFFSETTO:-0400
END:DAYLIGHT
END:VTIMEZONE
BEGIN:VEVENT
DESCRIPTION:Event DetailsJoin MPI North Florida for our May Happy Hour! Thi
 s is a casual networking event open to members and guests. Please select t
 he location you will be attending when registering.LocationsJacksonville\,
  FL &ndash\;&nbsp\;Ruby Beach BrewingSupport Contact: Kristin ThompsonGain
 esville\, FL &ndash\; Hyatt Place DowntownSupport Contact: Alex CromwellFl
 orida Panhandle (Destin)\, FL &ndash\; Hilton Sandestin Beach Golf ResortS
 upport Contact: Martha Lindsey
DTEND:20260514T223000Z
DTSTAMP:20260422T150332Z
DTSTART:20260514T203000Z
LOCATION:FL
SEQUENCE:0
SUMMARY:May Happy Hours
UID:RFCALITEM639124490124124170
X-ALT-DESC;FMTTYPE=text/html:<h3><strong>Event Details</strong></h3><div><p
 ><span style="background-color:initial\;font-size:inherit\;text-align:inhe
 rit\;text-transform:inherit\;word-spacing:normal\;caret-color:auto\;white-
 space:inherit\;">Join MPI North Florida for our May Happy Hour! This is a 
 casual networking event open to members and guests. Please select the loca
 tion you will be attending when registering.</span></p><h4><span style="ba
 ckground-color:initial\;font-size:inherit\;text-align:inherit\;text-transf
 orm:inherit\;word-spacing:normal\;caret-color:auto\;white-space:inherit\;"
 >Locations</span></h4></div><div>Jacksonville\, FL &ndash\;&nbsp\;<a href=
 "https://www.rubybeachbrewing.com/" style="font-size:inherit\;text-align:i
 nherit\;text-transform:inherit\;word-spacing:normal\;white-space:inherit\;
 ">Ruby Beach Brewing</a></div><div><p>Support Contact: <a href="mailto:cha
 pteradmin@mpinf.org">Kristin Thompson</a></p><p><span style="background-co
 lor:initial\;font-size:inherit\;text-align:inherit\;text-transform:inherit
 \;word-spacing:normal\;caret-color:auto\;white-space:inherit\;">Gainesvill
 e\, FL &ndash\;</span><a href="https://www.hyatt.com/hyatt-place/en-US/gnv
 zg-hyatt-place-gainesville-downtown" style="font-size:inherit\;text-align:
 inherit\;text-transform:inherit\;word-spacing:normal\;white-space:inherit\
 ;"> Hyatt Place Downtown</a><span style="background-color:initial\;font-si
 ze:inherit\;text-align:inherit\;text-transform:inherit\;word-spacing:norma
 l\;caret-color:auto\;white-space:inherit\;"><br />Support Contact: </span>
 <a href="mailto:astathas@ufl.edu" style="font-size:inherit\;text-align:inh
 erit\;text-transform:inherit\;word-spacing:normal\;white-space:inherit\;">
 Alex Cromwell</a></p></div><div>Florida Panhandle (Destin)\, FL &ndash\; <
 a href="https://www.hilton.com/en/hotels/deshihf-hilton-sandestin-beach-go
 lf-resort-and-spa/?SEO_id=GMB-AMER-HH-DESHIHF&amp\;y_source=1_MTIyMDg5NS03
 MTUtbG9jYXRpb24ud2Vic2l0ZQ%3D%3D">Hilton Sandestin Beach Golf Resort<br />
 </a><span style="background-color:initial\;font-size:inherit\;text-align:i
 nherit\;text-transform:inherit\;word-spacing:normal\;caret-color:auto\;whi
 te-space:inherit\;">Support Contact: <a href="mailto:martha@asmbs.org">Mar
 tha Lindsey</a></span></div>
END:VEVENT
END:VCALENDAR
