BEGIN:VCALENDAR
VERSION:2.0
METHOD:PUBLISH
PRODID:-//Telerik Inc.//Sitefinity CMS 15.3//EN
BEGIN:VTIMEZONE
TZID:UTC
BEGIN:STANDARD
DTSTART;VALUE=DATE:20250101
TZNAME:UTC
TZOFFSETFROM:+0000
TZOFFSETTO:+0000
END:STANDARD
END:VTIMEZONE
BEGIN:VEVENT
DESCRIPTION:16th June 2026 - Virtual4pm UK time.Save the date for our next 
 Breaking Borders Event. If the last event is anything to go by\, this is o
 ne you will not want to miss!!Registration link coming soon.&nbsp\;
DTEND:20260616T160000Z
DTSTAMP:20260420T193740Z
DTSTART:20260616T150000Z
LOCATION:Online
SEQUENCE:0
SUMMARY:Save the Date - 16th June: Breaking Borders: Being a Brilliant Inte
 rnational Event Partner
UID:RFCALITEM639122926602276584
X-ALT-DESC;FMTTYPE=text/html:<div></div><div><div><p data-olk-copy-source="
 MessageBody">16th June 2026 - Virtual</p><p data-olk-copy-source="MessageB
 ody">4pm UK time.</p><p data-olk-copy-source="MessageBody">Save the date f
 or our next Breaking Borders Event. If the last event is anything to go by
 \, this is one you will not want to miss!!</p><p data-olk-copy-source="Mes
 sageBody">Registration link coming soon.</p></div><p><strong>&nbsp\;</stro
 ng></p><p><br /></p></div>
END:VEVENT
END:VCALENDAR
