BEGIN:VCALENDAR
VERSION:2.0
METHOD:PUBLISH
PRODID:-//Telerik Inc.//Sitefinity CMS 15.3//EN
BEGIN:VTIMEZONE
TZID:Central Standard Time
BEGIN:STANDARD
DTSTART:20251102T020000
RRULE:FREQ=YEARLY;BYDAY=1SU;BYHOUR=2;BYMINUTE=0;BYMONTH=11
TZNAME:Central Standard Time
TZOFFSETFROM:-0500
TZOFFSETTO:-0600
END:STANDARD
BEGIN:DAYLIGHT
DTSTART:20250301T020000
RRULE:FREQ=YEARLY;BYDAY=2SU;BYHOUR=2;BYMINUTE=0;BYMONTH=3
TZNAME:Central Daylight Time
TZOFFSETFROM:-0600
TZOFFSETTO:-0500
END:DAYLIGHT
END:VTIMEZONE
BEGIN:VEVENT
DESCRIPTION:Michael DominguezAs the President and CEO of Associated Luxury 
 Hotels International (ALHI)\, I lead a global sales organization that is a
  trusted partner for meeting and event professionals seeking the best inde
 pendent luxury properties and experiences. I hold the Certified Hospitalit
 y Sales Executive (CHSE) credential\, demonstrating my commitment to excel
 lence and professionalism in the hospitality industry.&nbsp\;With over 30 
 years of experience in luxury meetings and events\, I have a deep understa
 nding of the needs and preferences of our clients and members\, as well as
  the trends and challenges of the market. I am passionate about delivering
  personalized service and connectivity and empowering our team of nearly 8
 0 professionals across 26 offices worldwide. Under my leadership\, ALHI ha
 s earned multiple accolades and recognition for its high-quality portfolio
  and outstanding performance. I am also an active and influential member o
 f several industry associations and initiatives\, such as Meetings Mean Bu
 siness and Meeting Professionals International\, where I share my insights
  and expertise as a speaker\, leader\, and advocate.11:30am - 12:00pm Regi
 stration12:00pm - 1:30pm Program1:30pm - 2:00pm Venue Tours
DTEND:20240820T190000Z
DTSTAMP:20260420T135004Z
DTSTART:20240820T163000Z
LOCATION:TX\,United States\,The Woodlands\,1601 Lake Robbins Dr
SEQUENCE:0
SUMMARY:August CAP'D - Trends and Challenges in the Hospitality Market
UID:RFCALITEM639122718041804895
X-ALT-DESC;FMTTYPE=text/html:<div>Michael Dominguez</div><div><br /></div><
 div>As the President and CEO of Associated Luxury Hotels International (AL
 HI)\, I lead a global sales organization that is a trusted partner for mee
 ting and event professionals seeking the best independent luxury propertie
 s and experiences. I hold the Certified Hospitality Sales Executive (CHSE)
  credential\, demonstrating my commitment to excellence and professionalis
 m in the hospitality industry.</div><div>&nbsp\;</div><div><p>With over 30
  years of experience in luxury meetings and events\, I have a deep underst
 anding of the needs and preferences of our clients and members\, as well a
 s the trends and challenges of the market. I am passionate about deliverin
 g personalized service and connectivity and empowering our team of nearly 
 80 professionals across 26 offices worldwide. Under my leadership\, ALHI h
 as earned multiple accolades and recognition for its high-quality portfoli
 o and outstanding performance. I am also an active and influential member 
 of several industry associations and initiatives\, such as Meetings Mean B
 usiness and Meeting Professionals International\, where I share my insight
 s and expertise as a speaker\, leader\, and advocate.</p><div>11:30am - 12
 :00pm Registration</div><div>12:00pm - 1:30pm Program</div><div>1:30pm - 2
 :00pm Venue Tours</div></div>
END:VEVENT
END:VCALENDAR
