BEGIN:VCALENDAR
VERSION:2.0
METHOD:PUBLISH
PRODID:-//Telerik Inc.//Sitefinity CMS 15.3//EN
BEGIN:VEVENT
DESCRIPTION:Join MPI for an 8-hour global broadcast celebrating Global Meet
 ings Industry Day on May 6\, 2026! Hear from leaders across the meetings a
 nd events industry as we spotlight the power of bringing people together.
DTEND;VALUE=DATE:20260507
DTSTAMP:20260422T151723Z
DTSTART;VALUE=DATE:20260506
LOCATION:
SEQUENCE:0
SUMMARY:Meeting Matters
UID:RFCALITEM639124498434833737
X-ALT-DESC;FMTTYPE=text/html:Join MPI for an 8-hour global broadcast celebr
 ating Global Meetings Industry Day on May 6\, 2026! Hear from leaders acro
 ss the meetings and events industry as we spotlight the power of bringing 
 people together.
END:VEVENT
END:VCALENDAR
