BEGIN:VCALENDAR
VERSION:2.0
METHOD:PUBLISH
PRODID:-//Telerik Inc.//Sitefinity CMS 15.3//EN
BEGIN:VTIMEZONE
TZID:Eastern Standard Time
BEGIN:STANDARD
DTSTART:20251102T020000
RRULE:FREQ=YEARLY;BYDAY=1SU;BYHOUR=2;BYMINUTE=0;BYMONTH=11
TZNAME:Eastern Standard Time
TZOFFSETFROM:-0400
TZOFFSETTO:-0500
END:STANDARD
BEGIN:DAYLIGHT
DTSTART:20250301T020000
RRULE:FREQ=YEARLY;BYDAY=2SU;BYHOUR=2;BYMINUTE=0;BYMONTH=3
TZNAME:Eastern Daylight Time
TZOFFSETFROM:-0500
TZOFFSETTO:-0400
END:DAYLIGHT
END:VTIMEZONE
BEGIN:VEVENT
DESCRIPTION:&nbsp\;
DTEND:20260421T170000Z
DTSTAMP:20260420T135038Z
DTSTART:20260421T160000Z
LOCATION:DC\,Washington\,1776 D Street NW
SEQUENCE:0
SUMMARY:MPI Potomac Insider
UID:RFCALITEM639122718388742925
X-ALT-DESC;FMTTYPE=text/html:<p style="text-align:center\;"><strong><span s
 tyle="font-size:48pt\;">&nbsp\;</span></strong></p>
END:VEVENT
END:VCALENDAR
