BEGIN:VCALENDAR
VERSION:2.0
METHOD:PUBLISH
PRODID:-//Telerik Inc.//Sitefinity CMS 15.3//EN
BEGIN:VTIMEZONE
TZID:Eastern Standard Time
BEGIN:STANDARD
DTSTART:20251102T020000
RRULE:FREQ=YEARLY;BYDAY=1SU;BYHOUR=2;BYMINUTE=0;BYMONTH=11
TZNAME:Eastern Standard Time
TZOFFSETFROM:-0400
TZOFFSETTO:-0500
END:STANDARD
BEGIN:DAYLIGHT
DTSTART:20250301T020000
RRULE:FREQ=YEARLY;BYDAY=2SU;BYHOUR=2;BYMINUTE=0;BYMONTH=3
TZNAME:Eastern Daylight Time
TZOFFSETFROM:-0500
TZOFFSETTO:-0400
END:DAYLIGHT
END:VTIMEZONE
BEGIN:VEVENT
DESCRIPTION:Unlock the Power of Connection at MPI&rsquo\;s Southeast Region
  LinkUp\, Learn &amp\; Connect! Join us on Wednesday\, May 20th\, for a vi
 rtual event designed for both members and future members of MPI&rsquo\;s S
 outheast Region.During this interactive session\, MPI members will share t
 heir personal stories revealing the hidden value of MPI and how being part
  of our community has shaped their careers\, professional growth\, and lea
 dership journeys.Whether you&rsquo\;re a member looking to get more involv
 ed\, maximize your membership benefits\, or explore new leadership opportu
 nities\, or you&rsquo\;re considering joining MPI for the first time\, thi
 s event will help you see the true impact of connection through MPI.You&rs
 quo\;ll also have the chance to network with professionals from across the
  Southeast Region and invite a colleague or friend who you believe would m
 ake a great future member of our MPI community.Don&rsquo\;t miss this chan
 ce to connect\, learn\, and grow with MPI!🗓️ Date: Wednesday\, May 20th🕙
  Time: 11:00AM - 12:30PM💻 Format: Virtual Event🎟️ Members and Future Mem
 bers Encouraged to AttendREGISTRATION LINK COMING SOON!
DTEND:20260520T163000Z
DTSTAMP:20260422T150332Z
DTSTART:20260520T150000Z
LOCATION:
SEQUENCE:0
SUMMARY:MPI Southeast Region LinkUp & Connect
UID:RFCALITEM639124490126936712
X-ALT-DESC;FMTTYPE=text/html:<p>Unlock the Power of Connection at MPI&rsquo
 \;s Southeast Region LinkUp\, Learn &amp\; Connect! Join us on Wednesday\,
  May 20th\, for a virtual event designed for both members and future membe
 rs of MPI&rsquo\;s Southeast Region.</p><p>During this interactive session
 \, MPI members will share their personal stories revealing the hidden valu
 e of MPI and how being part of our community has shaped their careers\, pr
 ofessional growth\, and leadership journeys.</p><p>Whether you&rsquo\;re a
  member looking to get more involved\, maximize your membership benefits\,
  or explore new leadership opportunities\, or you&rsquo\;re considering jo
 ining MPI for the first time\, this event will help you see the true impac
 t of connection through MPI.</p><p>You&rsquo\;ll also have the chance to n
 etwork with professionals from across the Southeast Region and invite a co
 lleague or friend who you believe would make a great future member of our 
 MPI community.</p><p>Don&rsquo\;t miss this chance to connect\, learn\, an
 d grow with MPI!</p><p>🗓️ Date: Wednesday\, May 20th<br />🕙 Time: 11:00A
 M - 12:30PM<br />💻 Format: Virtual Event<br />🎟️ Members and Future Memb
 ers Encouraged to Attend</p><p style="text-align:center\;"><strong>REGISTR
 ATION LINK COMING SOON!</strong></p>
END:VEVENT
END:VCALENDAR
