BEGIN:VCALENDAR
VERSION:2.0
METHOD:PUBLISH
PRODID:-//Telerik Inc.//Sitefinity CMS 15.3//EN
BEGIN:VTIMEZONE
TZID:Central Standard Time
BEGIN:STANDARD
DTSTART:20251102T020000
RRULE:FREQ=YEARLY;BYDAY=1SU;BYHOUR=2;BYMINUTE=0;BYMONTH=11
TZNAME:Central Standard Time
TZOFFSETFROM:-0500
TZOFFSETTO:-0600
END:STANDARD
BEGIN:DAYLIGHT
DTSTART:20250301T020000
RRULE:FREQ=YEARLY;BYDAY=2SU;BYHOUR=2;BYMINUTE=0;BYMONTH=3
TZNAME:Central Daylight Time
TZOFFSETFROM:-0600
TZOFFSETTO:-0500
END:DAYLIGHT
END:VTIMEZONE
BEGIN:VEVENT
DESCRIPTION:Join us for our monthly meetup\, open to ALL members &amp\; non
 -members without prior registration. Come hang from 5-7pm at a new locatio
 n around the city!&nbsp\;Date: Wednesday\, August 26Time: 5:00 - 7:00 pmLo
 cation: Palm Tree Club14 E 14th StreetKansas City\, MO 64106
DTEND:20260827T000000Z
DTSTAMP:20260421T165308Z
DTSTART:20260826T220000Z
LOCATION:MO\,Kansas City\,14 E 14th Street
SEQUENCE:0
SUMMARY:August Monthly Meetup | Palm Tree Club
UID:RFCALITEM639123691881651475
X-ALT-DESC;FMTTYPE=text/html:<p data-prosemirror-content-type="node" data-p
 rosemirror-node-name="paragraph" data-prosemirror-node-block="true" data-p
 m-slice="1 1 []">Join us for our monthly meetup\, open to ALL members &amp
 \; non-members without prior registration. Come hang from 5-7pm at a new l
 ocation around the city!&nbsp\;</p><div><p>Date: Wednesday\, August 26</p>
 </div><div><p>Time: 5:00 - 7:00 pm</p></div><div><p>Location: <a href="htt
 p://palmtreeclubkc.com/">Palm Tree Club</a><a href="https://citydogskc.com
 "></a><br />14 E 14th Street<br />Kansas City\, MO 64106</p></div>
END:VEVENT
END:VCALENDAR
