BEGIN:VCALENDAR
VERSION:2.0
METHOD:PUBLISH
PRODID:-//Telerik Inc.//Sitefinity CMS 15.3//EN
BEGIN:VTIMEZONE
TZID:Central Standard Time
BEGIN:STANDARD
DTSTART:20251102T020000
RRULE:FREQ=YEARLY;BYDAY=1SU;BYHOUR=2;BYMINUTE=0;BYMONTH=11
TZNAME:Central Standard Time
TZOFFSETFROM:-0500
TZOFFSETTO:-0600
END:STANDARD
BEGIN:DAYLIGHT
DTSTART:20250301T020000
RRULE:FREQ=YEARLY;BYDAY=2SU;BYHOUR=2;BYMINUTE=0;BYMONTH=3
TZNAME:Central Daylight Time
TZOFFSETFROM:-0600
TZOFFSETTO:-0500
END:DAYLIGHT
END:VTIMEZONE
BEGIN:VEVENT
DESCRIPTION:MPI&rsquo\;s live broadcast will feature 8 hours of education\,
  networking\, advocacy and celebration&nbsp\;with MPI chapters\, industry 
 advocates\, thought leaders and industry peers from around the&nbsp\;world
 . MPI&rsquo\;s 2026 Global Meetings Industry Day (GMID) Broadcast is a cha
 nce to gather as an&nbsp\;industry&mdash\;to learn\, to be inspired\, and 
 to reconnect with the meaning behind our work.
DTEND:20260506T210000Z
DTSTAMP:20260420T042252Z
DTSTART:20260506T130000Z
LOCATION:
SEQUENCE:0
SUMMARY:Global Meetings Industry Day MPI 2026 Broadcast
UID:RFCALITEM639122377727229492
X-ALT-DESC;FMTTYPE=text/html:<div>MPI&rsquo\;s live broadcast will feature 
 8 hours of education\, networking\, advocacy and celebration&nbsp\;<span s
 tyle="background-color:initial\;font-size:inherit\;text-align:inherit\;tex
 t-transform:inherit\;word-spacing:normal\;caret-color:auto\;white-space:in
 herit\;">with MPI chapters\, industry advocates\, thought leaders and indu
 stry peers from around the&nbsp\;</span><span style="background-color:init
 ial\;font-size:inherit\;text-align:inherit\;text-transform:inherit\;word-s
 pacing:normal\;caret-color:auto\;white-space:inherit\;">world. MPI&rsquo\;
 s 2026 Global Meetings Industry Day (GMID) Broadcast is a chance to gather
  as an&nbsp\;</span><span style="background-color:initial\;font-size:inher
 it\;text-align:inherit\;text-transform:inherit\;word-spacing:normal\;caret
 -color:auto\;white-space:inherit\;">industry&mdash\;to learn\, to be inspi
 red\, and to reconnect with the meaning behind our work.</span></div>
END:VEVENT
END:VCALENDAR
