BEGIN:VCALENDAR
VERSION:2.0
METHOD:PUBLISH
PRODID:-//Telerik Inc.//Sitefinity CMS 15.3//EN
BEGIN:VTIMEZONE
TZID:Eastern Standard Time
BEGIN:STANDARD
DTSTART:20251102T020000
RRULE:FREQ=YEARLY;BYDAY=1SU;BYHOUR=2;BYMINUTE=0;BYMONTH=11
TZNAME:Eastern Standard Time
TZOFFSETFROM:-0400
TZOFFSETTO:-0500
END:STANDARD
BEGIN:DAYLIGHT
DTSTART:20250301T020000
RRULE:FREQ=YEARLY;BYDAY=2SU;BYHOUR=2;BYMINUTE=0;BYMONTH=3
TZNAME:Eastern Daylight Time
TZOFFSETFROM:-0500
TZOFFSETTO:-0400
END:DAYLIGHT
END:VTIMEZONE
BEGIN:VEVENT
DESCRIPTION:Unlock the Power of Connection at MPI&rsquo\;s Southeast Region
  LinkUp\, Learn &amp\; Connect! Join us on Thursday\, November 5th\, for a
  virtual event designed for both members and future members of MPI&rsquo\;
 s Southeast Region.During this interactive session\, MPI members will shar
 e their personal stories revealing the hidden value of MPI and how being p
 art of our community has shaped their careers\, professional growth\, and 
 leadership journeys.Whether you&rsquo\;re a member looking to get more inv
 olved\, maximize your membership benefits\, or explore new leadership oppo
 rtunities\, or you&rsquo\;re considering joining MPI for the first time\, 
 this event will help you see the true impact of connection through MPI.You
 &rsquo\;ll also have the chance to network with professionals from across 
 the Southeast Region and invite a colleague or friend who you believe woul
 d make a great future member of our MPI community.Don&rsquo\;t miss this c
 hance to connect\, learn\, and grow with MPI!🗓️ Date: Thursday\, November
  5\, 2026🕙 Time: 11:00AM - 12:30PM💻 Format: Virtual Event🎟️ Members and
  Future Members Encouraged to AttendREGISTRATION LINK COMING SOON!
DTEND:20261105T173000Z
DTSTAMP:20260422T202303Z
DTSTART:20261105T160000Z
LOCATION:
SEQUENCE:0
SUMMARY:MPI Southeast Region LinkUp & Connect
UID:RFCALITEM639124681830486844
X-ALT-DESC;FMTTYPE=text/html:<p>Unlock the Power of Connection at MPI&rsquo
 \;s Southeast Region LinkUp\, Learn &amp\; Connect! Join us on Thursday\, 
 November 5th\, for a virtual event designed for both members and future me
 mbers of MPI&rsquo\;s Southeast Region.</p><p>During this interactive sess
 ion\, MPI members will share their personal stories revealing the hidden v
 alue of MPI and how being part of our community has shaped their careers\,
  professional growth\, and leadership journeys.</p><p>Whether you&rsquo\;r
 e a member looking to get more involved\, maximize your membership benefit
 s\, or explore new leadership opportunities\, or you&rsquo\;re considering
  joining MPI for the first time\, this event will help you see the true im
 pact of connection through MPI.</p><p>You&rsquo\;ll also have the chance t
 o network with professionals from across the Southeast Region and invite a
  colleague or friend who you believe would make a great future member of o
 ur MPI community.</p><p>Don&rsquo\;t miss this chance to connect\, learn\,
  and grow with MPI!</p><p>🗓️ Date: Thursday\, November 5\, 2026<br />🕙 T
 ime: 11:00AM - 12:30PM<br />💻 Format: Virtual Event<br />🎟️ Members and 
 Future Members Encouraged to Attend</p><p style="text-align:center\;"><str
 ong>REGISTRATION LINK COMING SOON!</strong></p>
END:VEVENT
END:VCALENDAR
