BEGIN:VCALENDAR
VERSION:2.0
METHOD:PUBLISH
PRODID:-//Telerik Inc.//Sitefinity CMS 15.3//EN
BEGIN:VTIMEZONE
TZID:Central Standard Time
BEGIN:STANDARD
DTSTART:20251102T020000
RRULE:FREQ=YEARLY;BYDAY=1SU;BYHOUR=2;BYMINUTE=0;BYMONTH=11
TZNAME:Central Standard Time
TZOFFSETFROM:-0500
TZOFFSETTO:-0600
END:STANDARD
BEGIN:DAYLIGHT
DTSTART:20250301T020000
RRULE:FREQ=YEARLY;BYDAY=2SU;BYHOUR=2;BYMINUTE=0;BYMONTH=3
TZNAME:Central Daylight Time
TZOFFSETFROM:-0600
TZOFFSETTO:-0500
END:DAYLIGHT
END:VTIMEZONE
BEGIN:VEVENT
DESCRIPTION:Southeastern Regional Council Presents: LinkUp &amp\; ConnectVi
 rtual Membership Events | Save the DateThe Southeastern Regional Council i
 s excited to host two virtual LinkUp &amp\; Connect membership events desi
 gned to bring together current\, prospective\, and future MPI members from
  across the region.Event Dates:May 20 at 10:00 AM CSTNovember 5 at 10:00 A
 M CSTAbout LinkUp &amp\; ConnectThese interactive virtual sessions are des
 igned to create meaningful connections while showcasing the value of MPI m
 embership. Attendees will hear real stories from members across the region
 \, learn how to get involved\, and explore the many ways MPI can support t
 heir professional and personal growth.Event Goals:Engage prospective membe
 rs across the Southeast Highlight the value of MPI through real member exp
 eriences Support chapters in driving membership growth and retention Creat
 e connections between planners and suppliers across the region What to Exp
 ect:Member testimonials and shared experiences Opportunities to connect wi
 th peers across chapters Insights into volunteer opportunities and profess
 ional development A welcoming\, engaging environment for both new and exis
 ting members&nbsp\;
DTEND:20261105T170000Z
DTSTAMP:20260421T191226Z
DTSTART:20261105T160000Z
LOCATION:
SEQUENCE:0
SUMMARY:LinkUp & Connect
UID:RFCALITEM639123775461560190
X-ALT-DESC;FMTTYPE=text/html:<p><strong>Southeastern Regional Council Prese
 nts: LinkUp &amp\; Connect</strong><br /><strong>Virtual Membership Events
  | Save the Date</strong></p><p>The Southeastern Regional Council is excit
 ed to host two virtual <em>LinkUp &amp\; Connect</em> membership events de
 signed to bring together current\, prospective\, and future MPI members fr
 om across the region.</p><p><strong>Event Dates:</strong><br /><strong>May
  20 at 10:00 AM CST</strong><br /><strong>November 5 at 10:00 AM CST</stro
 ng></p><p><strong>About LinkUp &amp\; Connect</strong><br />These interact
 ive virtual sessions are designed to create meaningful connections while s
 howcasing the value of MPI membership. Attendees will hear real stories fr
 om members across the region\, learn how to get involved\, and explore the
  many ways MPI can support their professional and personal growth.</p><p><
 strong>Event Goals:</strong></p><ul type="disc"><li>Engage prospective mem
 bers across the Southeast </li><li>Highlight the value of MPI through real
  member experiences </li><li>Support chapters in driving membership growth
  and retention </li><li>Create connections between planners and suppliers 
 across the region </li></ul><p><strong>What to Expect:</strong></p><ul typ
 e="disc"><li>Member testimonials and shared experiences </li><li>Opportuni
 ties to connect with peers across chapters </li><li>Insights into voluntee
 r opportunities and professional development </li><li>A welcoming\, engagi
 ng environment for both new and existing members&nbsp\;</li></ul>
END:VEVENT
END:VCALENDAR
