BEGIN:VCALENDAR
VERSION:2.0
METHOD:PUBLISH
PRODID:-//Telerik Inc.//Sitefinity CMS 15.3//EN
BEGIN:VEVENT
DESCRIPTION:WHAT IS WEC?There is no bigger celebration of the people and pu
 rpose of the business event industry than MPI&rsquo\;s World Education Con
 gress. Through a strategy of intentional event design\, personalized learn
 ing\, and the festive hospitality of San Antonio\, WEC will deliver what y
 ou need to skyrocket your event career.Because of what you learn and who y
 ou meet at WEC\, your events will come alive like never before.&nbsp\;
DTEND;VALUE=DATE:20260605
DTSTAMP:20260421T124152Z
DTSTART;VALUE=DATE:20260602
LOCATION:Texas\,San Antonio
SEQUENCE:0
SUMMARY:WEC San Antonio
UID:RFCALITEM639123541124791200
X-ALT-DESC;FMTTYPE=text/html:<div data-element-type="FlexRow"><div><div id=
 "widget:5cf147f7-94ba-4936-a312-37ba31a76f94" data-cvent-id="widget-conten
 t-NucleusText"><div data-cvent-id="widget-NucleusText-widget:5cf147f7-94ba
 -4936-a312-37ba31a76f94"><div><div><p>WHAT IS WEC?</p></div></div></div></
 div></div></div><div data-element-type="FlexRow"><div><div id="widget:d158
 c353-f1a4-4530-b6d4-56a167145045" data-cvent-id="widget-content-NucleusTex
 t"><div data-cvent-id="widget-NucleusText-widget:d158c353-f1a4-4530-b6d4-5
 6a167145045"><div><div><p>There is no bigger celebration of the people and
  purpose of the business event industry than MPI&rsquo\;s World Education 
 Congress. Through a strategy of intentional event design\, personalized le
 arning\, and the festive hospitality of San Antonio\, WEC will deliver wha
 t you need to skyrocket your event career.</p><p>Because of what you learn
  and who you meet at WEC\, your events will come alive like never before.&
 nbsp\;</p></div></div></div></div></div></div>
END:VEVENT
END:VCALENDAR
