BEGIN:VCALENDAR
VERSION:2.0
METHOD:PUBLISH
PRODID:-//Telerik Inc.//Sitefinity CMS 15.3//EN
BEGIN:VTIMEZONE
TZID:Mountain Standard Time
BEGIN:STANDARD
DTSTART:20251102T020000
RRULE:FREQ=YEARLY;BYDAY=1SU;BYHOUR=2;BYMINUTE=0;BYMONTH=11
TZNAME:Mountain Standard Time
TZOFFSETFROM:-0600
TZOFFSETTO:-0700
END:STANDARD
BEGIN:DAYLIGHT
DTSTART:20250301T020000
RRULE:FREQ=YEARLY;BYDAY=2SU;BYHOUR=2;BYMINUTE=0;BYMONTH=3
TZNAME:Mountain Daylight Time
TZOFFSETFROM:-0700
TZOFFSETTO:-0600
END:DAYLIGHT
END:VTIMEZONE
BEGIN:VEVENT
DESCRIPTION:Join MPI Greater Calgary for a Global Meetings Industry Day edi
 tion of Collective Conversations\, exploring how events drive brand growth
 \, build community\, and deliver real business impact. Under the theme &ld
 quo\;An Event Did That!&rdquo\;\, gain fresh insights and connect with ind
 ustry peers.Attendees are invited to bring a non-industry guest at no addi
 tional cost\, offering a unique opportunity to showcase the value of event
 s. Network\, learn\, and experience the power of live events firsthand.
DTEND:20260507T000000Z
DTSTAMP:20260420T042235Z
DTSTART:20260506T210000Z
LOCATION:Alberta\,Canada\,Calgary\,136 8 Ave SE
SEQUENCE:0
SUMMARY:Collective Conversations: An Event Did That! | GMID 2026
UID:RFCALITEM639122377555773910
X-ALT-DESC;FMTTYPE=text/html:<p data-start="102" data-end="529"></p><div><s
 ection dir="auto" data-turn-id="request-WEB:8090df73-ef76-4fd8-b5c8-8e013b
 9e8277-2" data-testid="conversation-turn-6" data-scroll-anchor="true" data
 -turn="assistant"><div><div><div><div data-message-author-role="assistant"
  data-message-id="ef4abc1d-b672-430c-a3e9-486b179a9c13" dir="auto" data-me
 ssage-model-slug="gpt-5-3" data-turn-start-message="true" tabindex="0"><di
 v><div><p data-start="104" data-end="389">Join MPI Greater Calgary for a G
 lobal Meetings Industry Day edition of <em data-start="175" data-end="201"
 >Collective Conversations</em>\, exploring how events drive brand growth\,
  build community\, and deliver real business impact. Under the theme <stro
 ng data-start="311" data-end="335">&ldquo\;An Event Did That!&rdquo\;</str
 ong>\, gain fresh insights and connect with industry peers.</p><p data-sta
 rt="391" data-end="595" data-is-last-node="" data-is-only-node="">Attendee
 s are invited to bring a non-industry guest at no additional cost\, offeri
 ng a unique opportunity to showcase the value of events. Network\, learn\,
  and experience the power of live events firsthand.</p></div></div></div><
 /div></div></div></section></div>
END:VEVENT
END:VCALENDAR
