BEGIN:VCALENDAR
VERSION:2.0
METHOD:PUBLISH
PRODID:-//Telerik Inc.//Sitefinity CMS 15.3//EN
BEGIN:VEVENT
DESCRIPTION:Step&nbsp\;Behind the Curtain&nbsp\;at EDUCON and discover what
  truly brings unforgettable events to life. This immersive experience offe
 rs an exclusive inside look at the&nbsp\;process\, purpose\, and people&nb
 sp\;that power exceptional meetings and experiences. From concept to execu
 tion\, hear directly from industry experts as they share real-world insigh
 ts\, creative strategies\, and behind-the-scenes stories that you won&rsqu
 o\;t find anywhere else. Whether you're a seasoned planner or new to the i
 ndustry\, you&rsquo\;ll walk away inspired\, informed\, and equipped to el
 evate your own events.REGISTRATION COMING SOON!
DTEND;VALUE=DATE:20260916
DTSTAMP:20260422T202303Z
DTSTART;VALUE=DATE:20260915
LOCATION:FL\,USA\,Jacksonville\,245 Water St
SEQUENCE:0
SUMMARY:MPI EDUCON
UID:RFCALITEM639124681830486844
X-ALT-DESC;FMTTYPE=text/html:<p>Step&nbsp\;<em data-start="214" data-end="2
 34">Behind the Curtain</em>&nbsp\;at EDUCON and discover what truly brings
  unforgettable events to life. This immersive experience offers an exclusi
 ve inside look at the&nbsp\;<strong data-start="371" data-end="403">proces
 s\, purpose\, and people</strong>&nbsp\;that power exceptional meetings an
 d experiences. From concept to execution\, hear directly from industry exp
 erts as they share real-world insights\, creative strategies\, and behind-
 the-scenes stories that you won&rsquo\;t find anywhere else. Whether you'r
 e a seasoned planner or new to the industry\, you&rsquo\;ll walk away insp
 ired\, informed\, and equipped to elevate your own events.</p><p style="te
 xt-align:center\;"><strong>REGISTRATION COMING SOON!</strong></p>
END:VEVENT
END:VCALENDAR
