BEGIN:VCALENDAR
VERSION:2.0
METHOD:PUBLISH
PRODID:-//Telerik Inc.//Sitefinity CMS 15.3//EN
BEGIN:VTIMEZONE
TZID:Central Standard Time
BEGIN:STANDARD
DTSTART:20251102T020000
RRULE:FREQ=YEARLY;BYDAY=1SU;BYHOUR=2;BYMINUTE=0;BYMONTH=11
TZNAME:Central Standard Time
TZOFFSETFROM:-0500
TZOFFSETTO:-0600
END:STANDARD
BEGIN:DAYLIGHT
DTSTART:20250301T020000
RRULE:FREQ=YEARLY;BYDAY=2SU;BYHOUR=2;BYMINUTE=0;BYMONTH=3
TZNAME:Central Daylight Time
TZOFFSETFROM:-0600
TZOFFSETTO:-0500
END:DAYLIGHT
END:VTIMEZONE
BEGIN:VEVENT
DESCRIPTION:Entertainment is no longer just a line item\, it&rsquo\;s a dri
 ving force behind memorable\, high‑impact events. Join MPI Gulf States for
  an engaging panel discussion featuring leading entertainment and experien
 tial experts from across the events industry.Our panelists&mdash\;Kalin Wa
 wrzyniak (Amusement Masters)\, and Heather Mauldin (Boogie Booth) with add
 itional industry professionals will share the latest trends they&rsquo\;re
  seeing in live events\, from immersive guest experiences and interactive 
 entertainment to personalization and unexpected &ldquo\;wow&rdquo\; moment
 s. Attendees will gain insight into what&rsquo\;s resonating with audience
 s right now\, what&rsquo\;s on its way out\, and how to thoughtfully incor
 porate entertainment that elevates any event\, budget\, or brand. Perfect 
 for planners\, suppliers\, and industry partners looking to stay inspired\
 , informed\, and ahead of the curve!Agenda11:30am - Registration and Netwo
 rking12:15pm &ndash\; Education Panel1:30pm &ndash\; Event ends&nbsp\;
DTEND:20260519T183000Z
DTSTAMP:20260421T191140Z
DTSTART:20260519T163000Z
LOCATION:LA\,New Orleans\,600 Decatur Street
SEQUENCE:0
SUMMARY:May 2026 Education Event
UID:RFCALITEM639123775001839852
X-ALT-DESC;FMTTYPE=text/html:<p><strong></strong></p><p>Entertainment is no
  longer just a line item\, it&rsquo\;s a driving force behind memorable\, 
 high‑impact events. Join MPI Gulf States for an engaging panel discussion 
 featuring leading entertainment and experiential experts from across the e
 vents industry.</p><p>Our panelists&mdash\;Kalin Wawrzyniak (Amusement Mas
 ters)\, and Heather Mauldin (Boogie Booth) with additional industry profes
 sionals will share the latest trends they&rsquo\;re seeing in live events\
 , from immersive guest experiences and interactive entertainment to person
 alization and unexpected &ldquo\;wow&rdquo\; moments. Attendees will gain 
 insight into what&rsquo\;s resonating with audiences right now\, what&rsqu
 o\;s on its way out\, and how to thoughtfully incorporate entertainment th
 at elevates any event\, budget\, or brand. Perfect for planners\, supplier
 s\, and industry partners looking to stay inspired\, informed\, and ahead 
 of the curve!</p><p><strong>Agenda</strong><br />11:30am - Registration an
 d Networking<br />12:15pm &ndash\; Education Panel<br />1:30pm &ndash\; Ev
 ent ends</p><div></div><p>&nbsp\;</p>
END:VEVENT
END:VCALENDAR
