BEGIN:VCALENDAR
VERSION:2.0
METHOD:PUBLISH
PRODID:-//Telerik Inc.//Sitefinity CMS 15.3//EN
BEGIN:VEVENT
DESCRIPTION:WEC is where the global meeting and event industry gathers to l
 earn\, connect\, and do business with purpose. Attendees leave with fresh 
 ideas\, meaningful partnerships\, and practical strategies they can use ri
 ght away.&nbsp\;https://wec.mpi.org/
DTEND;VALUE=DATE:20260605
DTSTAMP:20260420T042235Z
DTSTART;VALUE=DATE:20260602
LOCATION:Texas\,USA\,San Antonio
SEQUENCE:0
SUMMARY:WEC 2026
UID:RFCALITEM639122377555773910
X-ALT-DESC;FMTTYPE=text/html:<p style="text-align:center\;">WEC is where th
 e global meeting and event industry gathers to learn\, connect\, and do bu
 siness with purpose. Attendees leave with fresh ideas\, meaningful partner
 ships\, and practical strategies they can use right away.&nbsp\;</p><p sty
 le="text-align:center\;"><a href="https://wec.mpi.org/">https://wec.mpi.or
 g/</a></p>
END:VEVENT
END:VCALENDAR
